BEGIN:VCALENDAR
VERSION:2.0
PRODID:-//The Open Heart Project - ECPv6.15.20//NONSGML v1.0//EN
CALSCALE:GREGORIAN
METHOD:PUBLISH
X-WR-CALNAME:The Open Heart Project
X-ORIGINAL-URL:https://openheartproject.com
X-WR-CALDESC:Events for The Open Heart Project
REFRESH-INTERVAL;VALUE=DURATION:PT1H
X-Robots-Tag:noindex
X-PUBLISHED-TTL:PT1H
BEGIN:VTIMEZONE
TZID:America/New_York
BEGIN:DAYLIGHT
TZOFFSETFROM:-0500
TZOFFSETTO:-0400
TZNAME:EDT
DTSTART:20140309T070000
END:DAYLIGHT
BEGIN:STANDARD
TZOFFSETFROM:-0400
TZOFFSETTO:-0500
TZNAME:EST
DTSTART:20141102T060000
END:STANDARD
BEGIN:DAYLIGHT
TZOFFSETFROM:-0500
TZOFFSETTO:-0400
TZNAME:EDT
DTSTART:20150308T070000
END:DAYLIGHT
BEGIN:STANDARD
TZOFFSETFROM:-0400
TZOFFSETTO:-0500
TZNAME:EST
DTSTART:20151101T060000
END:STANDARD
BEGIN:DAYLIGHT
TZOFFSETFROM:-0500
TZOFFSETTO:-0400
TZNAME:EDT
DTSTART:20160313T070000
END:DAYLIGHT
BEGIN:STANDARD
TZOFFSETFROM:-0400
TZOFFSETTO:-0500
TZNAME:EST
DTSTART:20161106T060000
END:STANDARD
END:VTIMEZONE
BEGIN:VEVENT
DTSTART;TZID=America/New_York:20150520T200000
DTEND;TZID=America/New_York:20150520T203000
DTSTAMP:20260424T051815
CREATED:20150423T182007Z
LAST-MODIFIED:20150515T212819Z
UID:10013100-1432152000-1432153800@openheartproject.com
SUMMARY:Daily Dharma Gathering
DESCRIPTION:The Open Heart Project is so proud to offer you a chance to:\n\n\n\n\nPractice meditation every single day\nMeet and converse daily with a brilliant Buddhist teacher\nGet answers to important questions about your practice and your path\nBecome part of a group of smart\, fun\, sincere independent thinkers\nJoin a private Facebook forum to continue the conversation\n\nDaily Dharma Gathering sessions are from 8:00 p.m. to 8:30 p.m. on Mondays through Fridays and 12:00 p.m. to 12:30 p.m. EDT on Saturdays and Sundays. All you have to do is log on using the link you’ll receive upon registration. Each session begins with a short talk before moving into a guided meditation practice with time for a q&a at the end. \nEach session is recorded and made available for 24 hours or until it is replaced with the next day’s session. So if you can’t join live\, don’t worry! \nTeachers range from your hosts\, Susan and Lodro (who are trained in the Shambhala Buddhist lineage) to Vipassana teachers such as Kate Lila Wheeler and Emily Horn\, Zen teachers such as Sokuzan and angel Kyodo williams\, and ordained Tibetan Buddhist monastics such as Khenpo Gawang and Thubten Chodron. \nWe cannot overstate the amazing-ness of these teachers! So many Buddhist traditions are represented in this special group. Our teachers include men and women\, are white\, black\, and Asian\, and range in age from twenties to seventies. In all\, they represent an incomparable cross-section of Buddhism in the West. \nThe cost is $20 a month. Once you register\, your account will be charged automatically every 30 days\, unless or until you cancel. \n(Please note: no partial refunds.)\n \nREMINDER: OHP Sangha members can participate for free. \nNOTE: Your registration in this program comes with a free subscription to the Open Heart Project newsletter. \nWe look forward to taking this journey with you! \nLove\, Susan and Lodro \nQuestions?  Please email Michele
URL:https://openheartproject.com/event/daily-dharma-gathering-2015-05-20/
END:VEVENT
BEGIN:VEVENT
DTSTART;TZID=America/New_York:20150519T200000
DTEND;TZID=America/New_York:20150519T203000
DTSTAMP:20260424T051815
CREATED:20150506T183620Z
LAST-MODIFIED:20150515T185741Z
UID:10012978-1432065600-1432067400@openheartproject.com
SUMMARY:Daily Dharma Gathering
DESCRIPTION:The Open Heart Project is so proud to offer you a chance to:\n\n\n\n\nPractice meditation every single day\nMeet and converse daily with a brilliant Buddhist teacher\nGet answers to important questions about your practice and your path\nBecome part of a group of smart\, fun\, sincere independent thinkers\nJoin a private Facebook forum to continue the conversation\n\nDaily Dharma Gathering sessions are from 8:00p to 8:30p ET on Mondays through Fridays and 12:00p to 12:30p ET on Saturdays and Sundays. All you have to do is log on using the link you’ll receive upon registration. Each session begins with a short talk before moving into a guided meditation practice with time for a q&a at the end. \nEach session is recorded and made available for 24 hours or until it is replaced with the next day’s session. So if you can’t join live\, don’t worry! \nTeachers range from your hosts\, Susan and Lodro (who are trained in the Shambhala Buddhist lineage) to Vipassana teachers such as Kate Lila Wheeler and Emily Horn\, Zen teachers such as Sokuzan and angel Kyodo williams\, and ordained Tibetan Buddhist monastics such as Khenpo Gawang and Thubten Chodron. \nWe cannot overstate the amazing-ness of these teachers! So many Buddhist traditions are represented in this special group. Our teachers include men and women\, are white\, black\, and Asian\, and range in age from twenties to seventies. In all\, they represent an incomparable cross-section of Buddhism in the West. \nThe cost is $20 a month. Once you register\, your account will be charged automatically every 30 days\, unless or until you cancel. \n(Please note: no partial refunds.)\n \nREMINDER: OHP Sangha members can participate for free. \nNOTE: Your registration in this program comes with a free subscription to the Open Heart Project newsletter. \nWe look forward to taking this journey with you! \nLove\, Susan and Lodro \nQuestions?  Please email Michele
URL:https://openheartproject.com/event/daily-dharma-gathering-3/
END:VEVENT
BEGIN:VEVENT
DTSTART;TZID=America/New_York:20150518T200000
DTEND;TZID=America/New_York:20150518T203000
DTSTAMP:20260424T051815
CREATED:20150423T182007Z
LAST-MODIFIED:20150515T185519Z
UID:10013098-1431979200-1431981000@openheartproject.com
SUMMARY:Daily Dharma Gathering
DESCRIPTION:The Open Heart Project is so proud to offer you a chance to:\n\n\n\n\nPractice meditation every single day\nMeet and converse daily with a brilliant Buddhist teacher\nGet answers to important questions about your practice and your path\nBecome part of a group of smart\, fun\, sincere independent thinkers\nJoin a private Facebook forum to continue the conversation\n\nDaily Dharma Gathering sessions are from 8:00p to 8:30p ET on Mondays through Fridays and 12:00p to 12:30p ET on Saturdays and Sundays. All you have to do is log on using the link you’ll receive upon registration. Each session begins with a short talk before moving into a guided meditation practice with time for a q&a at the end. \nEach session is recorded and made available for 24 hours or until it is replaced with the next day’s session. So if you can’t join live\, don’t worry! \nTeachers range from your hosts\, Susan and Lodro (who are trained in the Shambhala Buddhist lineage) to Vipassana teachers such as Kate Lila Wheeler and Emily Horn\, Zen teachers such as Sokuzan and angel Kyodo williams\, and ordained Tibetan Buddhist monastics such as Khenpo Gawang and Thubten Chodron. \nWe cannot overstate the amazing-ness of these teachers! So many Buddhist traditions are represented in this special group. Our teachers include men and women\, are white\, black\, and Asian\, and range in age from twenties to seventies. In all\, they represent an incomparable cross-section of Buddhism in the West. \nThe cost is $20 a month. Once you register\, your account will be charged automatically every 30 days\, unless or until you cancel. \n(Please note: no partial refunds.)\n \nREMINDER: OHP Sangha members can participate for free. \nNOTE: Your registration in this program comes with a free subscription to the Open Heart Project newsletter. \nWe look forward to taking this journey with you! \nLove\, Susan and Lodro \nQuestions?  Please email Michele
URL:https://openheartproject.com/event/daily-dharma-gathering-2015-05-18/
END:VEVENT
BEGIN:VEVENT
DTSTART;TZID=America/New_York:20150517T120000
DTEND;TZID=America/New_York:20150517T123000
DTSTAMP:20260424T051815
CREATED:20150506T160520Z
LAST-MODIFIED:20150515T185201Z
UID:10012976-1431864000-1431865800@openheartproject.com
SUMMARY:Daily Dharma Gathering
DESCRIPTION:The Open Heart Project is so proud to offer you a chance to:\n\n\n\n\nPractice meditation every single day\nMeet and converse daily with a brilliant Buddhist teacher\nGet answers to important questions about your practice and your path\nBecome part of a group of smart\, fun\, sincere independent thinkers\nJoin a private Facebook forum to continue the conversation\n\nDaily Dharma Gathering sessions are from 8:00p to 8:30p ET on Mondays through Fridays and 12:00p to 12:30p ET on Saturdays and Sundays. All you have to do is log on using the link you’ll receive upon registration. Each session begins with a short talk before moving into a guided meditation practice with time for a q&a at the end. \nEach session is recorded and made available for 24 hours or until it is replaced with the next day’s session. So if you can’t join live\, don’t worry! \nTeachers range from your hosts\, Susan and Lodro (who are trained in the Shambhala Buddhist lineage) to Vipassana teachers such as Kate Lila Wheeler and Emily Horn\, Zen teachers such as Sokuzan and angel Kyodo williams\, and ordained Tibetan Buddhist monastics such as Khenpo Gawang and Thubten Chodron. \nWe cannot overstate the amazing-ness of these teachers! So many Buddhist traditions are represented in this special group. Our teachers include men and women\, are white\, black\, and Asian\, and range in age from twenties to seventies. In all\, they represent an incomparable cross-section of Buddhism in the West. \nThe cost is $20 a month. Once you register\, your account will be charged automatically every 30 days\, unless or until you cancel. \n(Please note: no partial refunds.)\n \nREMINDER: OHP Sangha members can participate for free. \nNOTE: Your registration in this program comes with a free subscription to the Open Heart Project newsletter. \nWe look forward to taking this journey with you! \nLove\, Susan and Lodro \nQuestions?  Please email Michele
URL:https://openheartproject.com/event/daily-dharma-gathering-2/
END:VEVENT
END:VCALENDAR