BEGIN:VCALENDAR
VERSION:2.0
PRODID:-//The Open Heart Project - ECPv6.15.20//NONSGML v1.0//EN
CALSCALE:GREGORIAN
METHOD:PUBLISH
X-ORIGINAL-URL:https://openheartproject.com
X-WR-CALDESC:Events for The Open Heart Project
REFRESH-INTERVAL;VALUE=DURATION:PT1H
X-Robots-Tag:noindex
X-PUBLISHED-TTL:PT1H
BEGIN:VTIMEZONE
TZID:America/New_York
BEGIN:DAYLIGHT
TZOFFSETFROM:-0500
TZOFFSETTO:-0400
TZNAME:EDT
DTSTART:20240310T070000
END:DAYLIGHT
BEGIN:STANDARD
TZOFFSETFROM:-0400
TZOFFSETTO:-0500
TZNAME:EST
DTSTART:20241103T060000
END:STANDARD
BEGIN:DAYLIGHT
TZOFFSETFROM:-0500
TZOFFSETTO:-0400
TZNAME:EDT
DTSTART:20250309T070000
END:DAYLIGHT
BEGIN:STANDARD
TZOFFSETFROM:-0400
TZOFFSETTO:-0500
TZNAME:EST
DTSTART:20251102T060000
END:STANDARD
BEGIN:DAYLIGHT
TZOFFSETFROM:-0500
TZOFFSETTO:-0400
TZNAME:EDT
DTSTART:20260308T070000
END:DAYLIGHT
BEGIN:STANDARD
TZOFFSETFROM:-0400
TZOFFSETTO:-0500
TZNAME:EST
DTSTART:20261101T060000
END:STANDARD
END:VTIMEZONE
BEGIN:VEVENT
DTSTART;TZID=America/New_York:20250415T180000
DTEND;TZID=America/New_York:20250415T190000
DTSTAMP:20260423T085837
CREATED:20250331T050002Z
LAST-MODIFIED:20250331T220718Z
UID:10014546-1744740000-1744743600@openheartproject.com
SUMMARY:Free Info Session about an upcoming course: Inexplicable Magic
DESCRIPTION:Register here for the free 60-minute info session.\nHow to bring more sanity to the world\nApril 15\n6pm – 7pm ET\nAt this time of uncertainty\, it can be difficult to imagine what you or I could do to stem the tide of pain and anger. While it’s true that we can’t mandate a positive direction for the events of the world\, we can mandate a positive direction for our world. We can settle our minds. We can order our environment. We can express care for those we encounter; for our loved ones\, friends\, neighbors\, communities. We can actually–slowly\, slowly–do our part to shift the balance away from insanity and cruelty to sanity and decency.  \nIt seems that it begins by reestablishing agency within our own minds and hearts. Rather than having our attention yanked hither and yon by social media\, news apps\, and the constant invitation to freak out\, we can decide when and what to pay attention to. In this way\, our actions to create real change come from a place of strength rather than desperation. \nIf this sounds like some kind of magic\, that is because it is. The magic of remaining awake. Of continuing to care. Of continuing to move forward against very strong currents of hatred and confusion. It begins with\, you guessed it\, a strong meditation practice.  \nDon’t take my word for anything I just said. Please come to a free info session where I will make seven suggestions for establishing and strengthening your world so that it shines a bright light into the world–which needs your light now\, more than ever. I’ll also share details of my upcoming four-week course by the same name.  \nPlease register here.  \nIf you can’t attend live\, you’ll receive a link to the recording.  \nThose who attend live will also have a chance to sign up for a post-info session one-to-one Zoom conversation with me to talk further about Inexplicable Magic.\n(10 15-minute slots will be available from April 17-21).  \nI hope to see you there. 
URL:https://openheartproject.com/event/free-info-session-to-hear-more-about-a-new-course-inexplicable-magic/
CATEGORIES:Special Events,Susan's Calendar
END:VEVENT
END:VCALENDAR