BEGIN:VCALENDAR
VERSION:2.0
PRODID:-//The Open Heart Project - ECPv6.15.20//NONSGML v1.0//EN
CALSCALE:GREGORIAN
METHOD:PUBLISH
X-WR-CALNAME:The Open Heart Project
X-ORIGINAL-URL:https://openheartproject.com
X-WR-CALDESC:Events for The Open Heart Project
REFRESH-INTERVAL;VALUE=DURATION:PT1H
X-Robots-Tag:noindex
X-PUBLISHED-TTL:PT1H
BEGIN:VTIMEZONE
TZID:America/New_York
BEGIN:DAYLIGHT
TZOFFSETFROM:-0500
TZOFFSETTO:-0400
TZNAME:EDT
DTSTART:20140309T070000
END:DAYLIGHT
BEGIN:STANDARD
TZOFFSETFROM:-0400
TZOFFSETTO:-0500
TZNAME:EST
DTSTART:20141102T060000
END:STANDARD
BEGIN:DAYLIGHT
TZOFFSETFROM:-0500
TZOFFSETTO:-0400
TZNAME:EDT
DTSTART:20150308T070000
END:DAYLIGHT
BEGIN:STANDARD
TZOFFSETFROM:-0400
TZOFFSETTO:-0500
TZNAME:EST
DTSTART:20151101T060000
END:STANDARD
BEGIN:DAYLIGHT
TZOFFSETFROM:-0500
TZOFFSETTO:-0400
TZNAME:EDT
DTSTART:20160313T070000
END:DAYLIGHT
BEGIN:STANDARD
TZOFFSETFROM:-0400
TZOFFSETTO:-0500
TZNAME:EST
DTSTART:20161106T060000
END:STANDARD
END:VTIMEZONE
BEGIN:VEVENT
DTSTART;TZID=America/New_York:20150928T170000
DTEND;TZID=America/New_York:20150928T180000
DTSTAMP:20260420T123622
CREATED:20150817T213936Z
LAST-MODIFIED:20150817T214301Z
UID:10013275-1443459600-1443463200@openheartproject.com
SUMMARY:Sangha monthly check-in
DESCRIPTION:Every month OHP Sangha members will be able to gather online to share thoughts on their practice\, past and upcoming programs and other Sangha community news. \nA special event link is sent to each member prior to the gathering and these check-ins are recorded for those unable to attend or for members wishing to watch the chat again.
URL:https://openheartproject.com/event/sangha-monthly-check-in-4/
CATEGORIES:Sangha Event
END:VEVENT
BEGIN:VEVENT
DTSTART;TZID=America/New_York:20150930T170000
DTEND;TZID=America/New_York:20150930T183000
DTSTAMP:20260420T123622
CREATED:20150721T164809Z
LAST-MODIFIED:20150825T194504Z
UID:10013227-1443632400-1443637800@openheartproject.com
SUMMARY:Sangha Book Club
DESCRIPTION:For the Open Heart Project Sangha‘s 3rd book club of 2015\, author Tulku Thondup will join us on September 30th to discuss his book “The Heart of Unconditional Love“.  The unconditional love that we all long for can be experienced in the practice of loving-kindness. In this popular form of meditation\, the love inherent to our own nature is gradually expanded until it embraces infinite beings. Tulku Thondup introduces a new four-stage format for this practice\, rooted in the traditional teachings of Tibetan Buddhism. \nAn email will be send to all Sangha members the day before with the link\, and instructions\, for joining this Sangha event.
URL:https://openheartproject.com/event/sangha-book-club/
CATEGORIES:Sangha Event
END:VEVENT
END:VCALENDAR