BEGIN:VCALENDAR
VERSION:2.0
PRODID:-//The Open Heart Project - ECPv6.15.20//NONSGML v1.0//EN
CALSCALE:GREGORIAN
METHOD:PUBLISH
X-ORIGINAL-URL:https://openheartproject.com
X-WR-CALDESC:Events for The Open Heart Project
REFRESH-INTERVAL;VALUE=DURATION:PT1H
X-Robots-Tag:noindex
X-PUBLISHED-TTL:PT1H
BEGIN:VTIMEZONE
TZID:America/New_York
BEGIN:DAYLIGHT
TZOFFSETFROM:-0500
TZOFFSETTO:-0400
TZNAME:EDT
DTSTART:20160313T070000
END:DAYLIGHT
BEGIN:STANDARD
TZOFFSETFROM:-0400
TZOFFSETTO:-0500
TZNAME:EST
DTSTART:20161106T060000
END:STANDARD
BEGIN:DAYLIGHT
TZOFFSETFROM:-0500
TZOFFSETTO:-0400
TZNAME:EDT
DTSTART:20170312T070000
END:DAYLIGHT
BEGIN:STANDARD
TZOFFSETFROM:-0400
TZOFFSETTO:-0500
TZNAME:EST
DTSTART:20171105T060000
END:STANDARD
BEGIN:DAYLIGHT
TZOFFSETFROM:-0500
TZOFFSETTO:-0400
TZNAME:EDT
DTSTART:20180311T070000
END:DAYLIGHT
BEGIN:STANDARD
TZOFFSETFROM:-0400
TZOFFSETTO:-0500
TZNAME:EST
DTSTART:20181104T060000
END:STANDARD
END:VTIMEZONE
BEGIN:VEVENT
DTSTART;TZID=America/New_York:20171205T150000
DTEND;TZID=America/New_York:20171205T160000
DTSTAMP:20260420T015849
CREATED:20171004T194531Z
LAST-MODIFIED:20171004T194531Z
UID:10014364-1512486000-1512489600@openheartproject.com
SUMMARY:Meditation Instructor Training Alumni Quarterly Check-in
DESCRIPTION:The Open Heart Project Meditation Instructor Training Program is a nine week online intensive E-Course for coaches\, nutritionists\, yoga teachers\, therapists and change agents. \nThis quarterly gathering is for graduates of our MIT program. \nWe’d love to hear how your practice is going and how you’ve been applying your course knowledge. All graduates will receive a reminder email the day before the quarterly check-in. \n  \nQuestions? Please email Michele.
URL:https://openheartproject.com/event/meditation-instructor-training-alumni-quarterly-check-2/
CATEGORIES:Ongoing Programs
END:VEVENT
BEGIN:VEVENT
DTSTART;TZID=America/New_York:20171206T133000
DTEND;TZID=America/New_York:20171206T140000
DTSTAMP:20260420T015849
CREATED:20170924T211119Z
LAST-MODIFIED:20171018T022739Z
UID:10014360-1512567000-1512568800@openheartproject.com
SUMMARY:Mommy Sangha
DESCRIPTION:The Open Heart Project Mommy Sangha: A supportive gathering of moms\, stepmoms\, and grandmothers to practice meditation together and share our wisdom\nAre you a mom (or stepmother or grandmother) who longs to practice meditation but can’t find time amidst the demands–and joys and difficulties–of caring for young children? \nParenting\, no matter how desired (and enjoyed)\, may come with fatigue\, self-doubt\, and the natural question: who the hell am I now? Meditation can help by offering space to breathe. Sangha (Sanskrit for community) helps by assuring you that you are most definitely not alone. Together\, meditation and Sangha can help you to remain present during the long days and short years of caring for your little ones. \nWhether you have a meditation practice (or used to have one) or are a brand new beginner\, you are warmly invited to join the Mommy Sangha. During this weekly 30-minute gathering\, you will be guided in a short meditation practice followed by a chance to connect with other mothers. We will also meet quarterly for a longer practice session and a special talk on how to apply Buddhist mindfulness principles to motherhood. \nThe Mommy Sangha will exist as a continuous presence for you to participate in as you are interested and able. And\, while we will be emphasizing the experiences of caring for younger children\, all mothers are welcome.\nWe promise to: \n\nProvide meditation instruction\nAnswer questions about meditation\nModerate the dialog to keep it meaningful and on point\nFoster kindness\nKeep it short!\n\nWhere: In the comfort of your own home via the Zoom meeting platform. Each session will be recorded so you can practice with the Mommy Sangha even if you can’t attend the live gathering. \n\n\n  \n\n \n \n \n  \nAbout Jenna Hollenstein\nNew mom\, mindfulness teacher\, and Founder and Nutrition Therapist at Eat to Love\, Jenna aims to bring the gentle sanity of Buddhist principles to every aspect of her personal and professional life. She is excited to support Mommy Sangha members to create and sustain a meditation practice that creates awareness\, lovingkindness\, and self-compassion. Her greatest teachers include Susan\, her partner Andrea\, and her son Mimmo. \nAbout the Open Heart Project\nCreated by meditation teacher and writer Susan Piver\, the OHP is an online meditation center. It shares all the qualities of a traditional dharma center: A shared practice. Workshops. Advanced courses. Retreats. Guest teachers. Community gatherings—all online and available to you 24/7. Currently\, there are close to 15000 members all over the world who are practicing meditation to recover a sense of balance\, cultivate fearlessness\, sharpen our minds\, and soften our hearts. While each may practice alone\, we also practice together to create a network of sanity and kindness. More information about the Open Heart Project can be found here. \nOnce you register\, your account will be charged automatically every 30 days\, unless or until you cancel. \nQuestions? Please email Michele \n 
URL:https://openheartproject.com/event/mommy-sangha-14-2017-12-06/
CATEGORIES:Ongoing Programs
END:VEVENT
BEGIN:VEVENT
DTSTART;TZID=America/New_York:20171213T133000
DTEND;TZID=America/New_York:20171213T140000
DTSTAMP:20260420T015849
CREATED:20170924T211219Z
LAST-MODIFIED:20171018T022805Z
UID:10014361-1513171800-1513173600@openheartproject.com
SUMMARY:Mommy Sangha
DESCRIPTION:The Open Heart Project Mommy Sangha: A supportive gathering of moms\, stepmoms\, and grandmothers to practice meditation together and share our wisdom\nAre you a mom (or stepmother or grandmother) who longs to practice meditation but can’t find time amidst the demands–and joys and difficulties–of caring for young children? \nParenting\, no matter how desired (and enjoyed)\, may come with fatigue\, self-doubt\, and the natural question: who the hell am I now? Meditation can help by offering space to breathe. Sangha (Sanskrit for community) helps by assuring you that you are most definitely not alone. Together\, meditation and Sangha can help you to remain present during the long days and short years of caring for your little ones. \nWhether you have a meditation practice (or used to have one) or are a brand new beginner\, you are warmly invited to join the Mommy Sangha. During this weekly 30-minute gathering\, you will be guided in a short meditation practice followed by a chance to connect with other mothers. We will also meet quarterly for a longer practice session and a special talk on how to apply Buddhist mindfulness principles to motherhood. \nThe Mommy Sangha will exist as a continuous presence for you to participate in as you are interested and able. And\, while we will be emphasizing the experiences of caring for younger children\, all mothers are welcome.\nWe promise to: \n\nProvide meditation instruction\nAnswer questions about meditation\nModerate the dialog to keep it meaningful and on point\nFoster kindness\nKeep it short!\n\nWhere: In the comfort of your own home via the Zoom meeting platform. Each session will be recorded so you can practice with the Mommy Sangha even if you can’t attend the live gathering. \n\n\n  \n\n \n \n \n  \nAbout Jenna Hollenstein\nNew mom\, mindfulness teacher\, and Founder and Nutrition Therapist at Eat to Love\, Jenna aims to bring the gentle sanity of Buddhist principles to every aspect of her personal and professional life. She is excited to support Mommy Sangha members to create and sustain a meditation practice that creates awareness\, lovingkindness\, and self-compassion. Her greatest teachers include Susan\, her partner Andrea\, and her son Mimmo. \nAbout the Open Heart Project\nCreated by meditation teacher and writer Susan Piver\, the OHP is an online meditation center. It shares all the qualities of a traditional dharma center: A shared practice. Workshops. Advanced courses. Retreats. Guest teachers. Community gatherings—all online and available to you 24/7. Currently\, there are close to 15000 members all over the world who are practicing meditation to recover a sense of balance\, cultivate fearlessness\, sharpen our minds\, and soften our hearts. While each may practice alone\, we also practice together to create a network of sanity and kindness. More information about the Open Heart Project can be found here. \nOnce you register\, your account will be charged automatically every 30 days\, unless or until you cancel. \nQuestions? Please email Michele \n 
URL:https://openheartproject.com/event/mommy-sangha-14-2017-12-13/
CATEGORIES:Ongoing Programs
END:VEVENT
BEGIN:VEVENT
DTSTART;TZID=America/New_York:20171220T133000
DTEND;TZID=America/New_York:20171220T140000
DTSTAMP:20260420T015849
CREATED:20170924T211246Z
LAST-MODIFIED:20171018T022832Z
UID:10014362-1513776600-1513778400@openheartproject.com
SUMMARY:Mommy Sangha
DESCRIPTION:The Open Heart Project Mommy Sangha: A supportive gathering of moms\, stepmoms\, and grandmothers to practice meditation together and share our wisdom\nAre you a mom (or stepmother or grandmother) who longs to practice meditation but can’t find time amidst the demands–and joys and difficulties–of caring for young children? \nParenting\, no matter how desired (and enjoyed)\, may come with fatigue\, self-doubt\, and the natural question: who the hell am I now? Meditation can help by offering space to breathe. Sangha (Sanskrit for community) helps by assuring you that you are most definitely not alone. Together\, meditation and Sangha can help you to remain present during the long days and short years of caring for your little ones. \nWhether you have a meditation practice (or used to have one) or are a brand new beginner\, you are warmly invited to join the Mommy Sangha. During this weekly 30-minute gathering\, you will be guided in a short meditation practice followed by a chance to connect with other mothers. We will also meet quarterly for a longer practice session and a special talk on how to apply Buddhist mindfulness principles to motherhood. \nThe Mommy Sangha will exist as a continuous presence for you to participate in as you are interested and able. And\, while we will be emphasizing the experiences of caring for younger children\, all mothers are welcome.\nWe promise to: \n\nProvide meditation instruction\nAnswer questions about meditation\nModerate the dialog to keep it meaningful and on point\nFoster kindness\nKeep it short!\n\nWhere: In the comfort of your own home via the Zoom meeting platform. Each session will be recorded so you can practice with the Mommy Sangha even if you can’t attend the live gathering. \n\n\n  \n\n \n \n \n  \nAbout Jenna Hollenstein\nNew mom\, mindfulness teacher\, and Founder and Nutrition Therapist at Eat to Love\, Jenna aims to bring the gentle sanity of Buddhist principles to every aspect of her personal and professional life. She is excited to support Mommy Sangha members to create and sustain a meditation practice that creates awareness\, lovingkindness\, and self-compassion. Her greatest teachers include Susan\, her partner Andrea\, and her son Mimmo. \nAbout the Open Heart Project\nCreated by meditation teacher and writer Susan Piver\, the OHP is an online meditation center. It shares all the qualities of a traditional dharma center: A shared practice. Workshops. Advanced courses. Retreats. Guest teachers. Community gatherings—all online and available to you 24/7. Currently\, there are close to 15000 members all over the world who are practicing meditation to recover a sense of balance\, cultivate fearlessness\, sharpen our minds\, and soften our hearts. While each may practice alone\, we also practice together to create a network of sanity and kindness. More information about the Open Heart Project can be found here. \nOnce you register\, your account will be charged automatically every 30 days\, unless or until you cancel. \nQuestions? Please email Michele \n 
URL:https://openheartproject.com/event/mommy-sangha-14-2017-12-20/
CATEGORIES:Ongoing Programs
END:VEVENT
BEGIN:VEVENT
DTSTART;TZID=America/New_York:20171227T133000
DTEND;TZID=America/New_York:20171227T140000
DTSTAMP:20260420T015849
CREATED:20170924T211311Z
LAST-MODIFIED:20171018T022905Z
UID:10014363-1514381400-1514383200@openheartproject.com
SUMMARY:Mommy Sangha
DESCRIPTION:The Open Heart Project Mommy Sangha: A supportive gathering of moms\, stepmoms\, and grandmothers to practice meditation together and share our wisdom\nAre you a mom (or stepmother or grandmother) who longs to practice meditation but can’t find time amidst the demands–and joys and difficulties–of caring for young children? \nParenting\, no matter how desired (and enjoyed)\, may come with fatigue\, self-doubt\, and the natural question: who the hell am I now? Meditation can help by offering space to breathe. Sangha (Sanskrit for community) helps by assuring you that you are most definitely not alone. Together\, meditation and Sangha can help you to remain present during the long days and short years of caring for your little ones. \nWhether you have a meditation practice (or used to have one) or are a brand new beginner\, you are warmly invited to join the Mommy Sangha. During this weekly 30-minute gathering\, you will be guided in a short meditation practice followed by a chance to connect with other mothers. We will also meet quarterly for a longer practice session and a special talk on how to apply Buddhist mindfulness principles to motherhood. \nThe Mommy Sangha will exist as a continuous presence for you to participate in as you are interested and able. And\, while we will be emphasizing the experiences of caring for younger children\, all mothers are welcome.\nWe promise to: \n\nProvide meditation instruction\nAnswer questions about meditation\nModerate the dialog to keep it meaningful and on point\nFoster kindness\nKeep it short!\n\nWhere: In the comfort of your own home via the Zoom meeting platform. Each session will be recorded so you can practice with the Mommy Sangha even if you can’t attend the live gathering. \n\n\n  \n\n \n \n \n  \nAbout Jenna Hollenstein\nNew mom\, mindfulness teacher\, and Founder and Nutrition Therapist at Eat to Love\, Jenna aims to bring the gentle sanity of Buddhist principles to every aspect of her personal and professional life. She is excited to support Mommy Sangha members to create and sustain a meditation practice that creates awareness\, lovingkindness\, and self-compassion. Her greatest teachers include Susan\, her partner Andrea\, and her son Mimmo. \nAbout the Open Heart Project\nCreated by meditation teacher and writer Susan Piver\, the OHP is an online meditation center. It shares all the qualities of a traditional dharma center: A shared practice. Workshops. Advanced courses. Retreats. Guest teachers. Community gatherings—all online and available to you 24/7. Currently\, there are close to 15000 members all over the world who are practicing meditation to recover a sense of balance\, cultivate fearlessness\, sharpen our minds\, and soften our hearts. While each may practice alone\, we also practice together to create a network of sanity and kindness. More information about the Open Heart Project can be found here. \nOnce you register\, your account will be charged automatically every 30 days\, unless or until you cancel. \nQuestions? Please email Michele \n 
URL:https://openheartproject.com/event/mommy-sangha-14-2017-12-27/
CATEGORIES:Ongoing Programs
END:VEVENT
END:VCALENDAR