BEGIN:VCALENDAR
VERSION:2.0
PRODID:-//The Open Heart Project - ECPv6.15.20//NONSGML v1.0//EN
CALSCALE:GREGORIAN
METHOD:PUBLISH
X-WR-CALNAME:The Open Heart Project
X-ORIGINAL-URL:https://openheartproject.com
X-WR-CALDESC:Events for The Open Heart Project
REFRESH-INTERVAL;VALUE=DURATION:PT1H
X-Robots-Tag:noindex
X-PUBLISHED-TTL:PT1H
BEGIN:VTIMEZONE
TZID:America/New_York
BEGIN:DAYLIGHT
TZOFFSETFROM:-0500
TZOFFSETTO:-0400
TZNAME:EDT
DTSTART:20160313T070000
END:DAYLIGHT
BEGIN:STANDARD
TZOFFSETFROM:-0400
TZOFFSETTO:-0500
TZNAME:EST
DTSTART:20161106T060000
END:STANDARD
BEGIN:DAYLIGHT
TZOFFSETFROM:-0500
TZOFFSETTO:-0400
TZNAME:EDT
DTSTART:20170312T070000
END:DAYLIGHT
BEGIN:STANDARD
TZOFFSETFROM:-0400
TZOFFSETTO:-0500
TZNAME:EST
DTSTART:20171105T060000
END:STANDARD
BEGIN:DAYLIGHT
TZOFFSETFROM:-0500
TZOFFSETTO:-0400
TZNAME:EDT
DTSTART:20180311T070000
END:DAYLIGHT
BEGIN:STANDARD
TZOFFSETFROM:-0400
TZOFFSETTO:-0500
TZNAME:EST
DTSTART:20181104T060000
END:STANDARD
END:VTIMEZONE
BEGIN:VEVENT
DTSTART;TZID=America/New_York:20170301T133000
DTEND;TZID=America/New_York:20170301T140000
DTSTAMP:20260420T212019
CREATED:20170127T155508Z
LAST-MODIFIED:20170127T155644Z
UID:10014318-1488375000-1488376800@openheartproject.com
SUMMARY:Mommy Sangha
DESCRIPTION:The Open Heart Project Mommy Sangha: A supportive gathering of moms\, stepmoms\, and grandmothers to practice meditation together and share our wisdom\nAre you a mom (or stepmother or grandmother) who longs to practice meditation but can’t find time amidst the demands–and joys and difficulties–of caring for young children? \nParenting\, no matter how desired (and enjoyed)\, may come with fatigue\, self-doubt\, and the natural question: who the hell am I now? Meditation can help by offering space to breathe. Sangha (Sanskrit for community) helps by assuring you that you are most definitely not alone. Together\, meditation and Sangha can help you to remain present during the long days and short years of caring for your little ones. \nWhether you have a meditation practice (or used to have one) or are a brand new beginner\, you are warmly invited to join the Mommy Sangha. During this weekly 30-minute gathering\, you will be guided in a short meditation practice followed by a chance to connect with other mothers. We will also meet quarterly for a longer practice session and a special talk on how to apply Buddhist mindfulness principles to motherhood. \nThe Mommy Sangha will exist as a continuous presence for you to participate in as you are interested and able. And\, while we will be emphasizing the experiences of caring for younger children\, all mothers are welcome.\nWe promise to: \n\nProvide meditation instruction\nAnswer questions about meditation\nModerate the dialog to keep it meaningful and on point\nFoster kindness\nKeep it short!\n\nWhere: In the comfort of your own home via the Zoom meeting platform. Each session will be recorded so you can practice with the Mommy Sangha even if you can’t attend the live gathering. \n\n\n\n \n \n \n \n  \nAbout Jenna Hollenstein\nNew mom\, mindfulness teacher\, and Founder and Nutrition Therapist at Eat to Love\, Jenna aims to bring the gentle sanity of Buddhist principles to every aspect of her personal and professional life. She is excited to support Mommy Sangha members to create and sustain a meditation practice that creates awareness\, lovingkindness\, and self-compassion. Her greatest teachers include Susan\, her partner Andrea\, and her son Mimmo. \nAbout the Open Heart Project\nCreated by meditation teacher and writer Susan Piver\, the OHP is an online meditation center. It shares all the qualities of a traditional dharma center: A shared practice. Workshops. Advanced courses. Retreats. Guest teachers. Community gatherings—all online and available to you 24/7. Currently\, there are close to 20000 members all over the world who are practicing meditation to recover a sense of balance\, cultivate fearlessness\, sharpen our minds\, and soften our hearts. While each may practice alone\, we also practice together to create a network of sanity and kindness. More information about the Open Heart Project can be found here. \nOnce you register\, your account will be charged automatically every 30 days\, unless or until you cancel. \nQuestions? Please email Michele
URL:https://openheartproject.com/event/mommy-sangha-10/
CATEGORIES:Ongoing Programs
END:VEVENT
BEGIN:VEVENT
DTSTART;TZID=America/New_York:20170308T133000
DTEND;TZID=America/New_York:20170308T140000
DTSTAMP:20260420T212019
CREATED:20170127T155813Z
LAST-MODIFIED:20170127T155813Z
UID:10014317-1488979800-1488981600@openheartproject.com
SUMMARY:Mommy Sangha
DESCRIPTION:The Open Heart Project Mommy Sangha: A supportive gathering of moms\, stepmoms\, and grandmothers to practice meditation together and share our wisdom\nAre you a mom (or stepmother or grandmother) who longs to practice meditation but can’t find time amidst the demands–and joys and difficulties–of caring for young children? \nParenting\, no matter how desired (and enjoyed)\, may come with fatigue\, self-doubt\, and the natural question: who the hell am I now? Meditation can help by offering space to breathe. Sangha (Sanskrit for community) helps by assuring you that you are most definitely not alone. Together\, meditation and Sangha can help you to remain present during the long days and short years of caring for your little ones. \nWhether you have a meditation practice (or used to have one) or are a brand new beginner\, you are warmly invited to join the Mommy Sangha. During this weekly 30-minute gathering\, you will be guided in a short meditation practice followed by a chance to connect with other mothers. We will also meet quarterly for a longer practice session and a special talk on how to apply Buddhist mindfulness principles to motherhood. \nThe Mommy Sangha will exist as a continuous presence for you to participate in as you are interested and able. And\, while we will be emphasizing the experiences of caring for younger children\, all mothers are welcome.\nWe promise to: \n\nProvide meditation instruction\nAnswer questions about meditation\nModerate the dialog to keep it meaningful and on point\nFoster kindness\nKeep it short!\n\nWhere: In the comfort of your own home via the Zoom meeting platform. Each session will be recorded so you can practice with the Mommy Sangha even if you can’t attend the live gathering. \n\n\n\n \n \n \n \n \n  \nAbout Jenna Hollenstein\nNew mom\, mindfulness teacher\, and Founder and Nutrition Therapist at Eat to Love\, Jenna aims to bring the gentle sanity of Buddhist principles to every aspect of her personal and professional life. She is excited to support Mommy Sangha members to create and sustain a meditation practice that creates awareness\, lovingkindness\, and self-compassion. Her greatest teachers include Susan\, her partner Andrea\, and her son Mimmo. \nAbout the Open Heart Project\nCreated by meditation teacher and writer Susan Piver\, the OHP is an online meditation center. It shares all the qualities of a traditional dharma center: A shared practice. Workshops. Advanced courses. Retreats. Guest teachers. Community gatherings—all online and available to you 24/7. Currently\, there are close to 20000 members all over the world who are practicing meditation to recover a sense of balance\, cultivate fearlessness\, sharpen our minds\, and soften our hearts. While each may practice alone\, we also practice together to create a network of sanity and kindness. More information about the Open Heart Project can be found here. \nOnce you register\, your account will be charged automatically every 30 days\, unless or until you cancel. \nQuestions? Please email Michele
URL:https://openheartproject.com/event/mommy-sangha-10-2017-03-08/
CATEGORIES:Ongoing Programs
END:VEVENT
BEGIN:VEVENT
DTSTART;TZID=America/New_York:20170315T130000
DTEND;TZID=America/New_York:20170315T140000
DTSTAMP:20260420T212019
CREATED:20170127T160103Z
LAST-MODIFIED:20170127T160103Z
UID:10014319-1489582800-1489586400@openheartproject.com
SUMMARY:Mommy Sangha
DESCRIPTION:The Open Heart Project Mommy Sangha: A supportive gathering of moms\, stepmoms\, and grandmothers to practice meditation together and share our wisdom\nAre you a mom (or stepmother or grandmother) who longs to practice meditation but can’t find time amidst the demands–and joys and difficulties–of caring for young children? \nParenting\, no matter how desired (and enjoyed)\, may come with fatigue\, self-doubt\, and the natural question: who the hell am I now? Meditation can help by offering space to breathe. Sangha (Sanskrit for community) helps by assuring you that you are most definitely not alone. Together\, meditation and Sangha can help you to remain present during the long days and short years of caring for your little ones. \nWhether you have a meditation practice (or used to have one) or are a brand new beginner\, you are warmly invited to join the Mommy Sangha. During this weekly 30-minute gathering\, you will be guided in a short meditation practice followed by a chance to connect with other mothers. We will also meet quarterly for a longer practice session and a special talk on how to apply Buddhist mindfulness principles to motherhood. \nThe Mommy Sangha will exist as a continuous presence for you to participate in as you are interested and able. And\, while we will be emphasizing the experiences of caring for younger children\, all mothers are welcome.\nWe promise to: \n\nProvide meditation instruction\nAnswer questions about meditation\nModerate the dialog to keep it meaningful and on point\nFoster kindness\nKeep it short!\n\nWhere: In the comfort of your own home via the Zoom meeting platform. Each session will be recorded so you can practice with the Mommy Sangha even if you can’t attend the live gathering. \n\n\n\n \n \n \n \n \n  \nAbout Jenna Hollenstein\nNew mom\, mindfulness teacher\, and Founder and Nutrition Therapist at Eat to Love\, Jenna aims to bring the gentle sanity of Buddhist principles to every aspect of her personal and professional life. She is excited to support Mommy Sangha members to create and sustain a meditation practice that creates awareness\, lovingkindness\, and self-compassion. Her greatest teachers include Susan\, her partner Andrea\, and her son Mimmo. \nAbout the Open Heart Project\nCreated by meditation teacher and writer Susan Piver\, the OHP is an online meditation center. It shares all the qualities of a traditional dharma center: A shared practice. Workshops. Advanced courses. Retreats. Guest teachers. Community gatherings—all online and available to you 24/7. Currently\, there are close to 20000 members all over the world who are practicing meditation to recover a sense of balance\, cultivate fearlessness\, sharpen our minds\, and soften our hearts. While each may practice alone\, we also practice together to create a network of sanity and kindness. More information about the Open Heart Project can be found here. \nOnce you register\, your account will be charged automatically every 30 days\, unless or until you cancel. \nQuestions? Please email Michele
URL:https://openheartproject.com/event/mommy-sangha-10-2017-03-15/
CATEGORIES:Ongoing Programs
END:VEVENT
BEGIN:VEVENT
DTSTART;TZID=America/New_York:20170322T013000
DTEND;TZID=America/New_York:20170322T140000
DTSTAMP:20260420T212019
CREATED:20170127T160154Z
LAST-MODIFIED:20170127T160154Z
UID:10014320-1490146200-1490191200@openheartproject.com
SUMMARY:Mommy Sangha
DESCRIPTION:The Open Heart Project Mommy Sangha: A supportive gathering of moms\, stepmoms\, and grandmothers to practice meditation together and share our wisdom\nAre you a mom (or stepmother or grandmother) who longs to practice meditation but can’t find time amidst the demands–and joys and difficulties–of caring for young children? \nParenting\, no matter how desired (and enjoyed)\, may come with fatigue\, self-doubt\, and the natural question: who the hell am I now? Meditation can help by offering space to breathe. Sangha (Sanskrit for community) helps by assuring you that you are most definitely not alone. Together\, meditation and Sangha can help you to remain present during the long days and short years of caring for your little ones. \nWhether you have a meditation practice (or used to have one) or are a brand new beginner\, you are warmly invited to join the Mommy Sangha. During this weekly 30-minute gathering\, you will be guided in a short meditation practice followed by a chance to connect with other mothers. We will also meet quarterly for a longer practice session and a special talk on how to apply Buddhist mindfulness principles to motherhood. \nThe Mommy Sangha will exist as a continuous presence for you to participate in as you are interested and able. And\, while we will be emphasizing the experiences of caring for younger children\, all mothers are welcome.\nWe promise to: \n\nProvide meditation instruction\nAnswer questions about meditation\nModerate the dialog to keep it meaningful and on point\nFoster kindness\nKeep it short!\n\nWhere: In the comfort of your own home via the Zoom meeting platform. Each session will be recorded so you can practice with the Mommy Sangha even if you can’t attend the live gathering. \n\n\n\n \n \n \n \n \n  \nAbout Jenna Hollenstein\nNew mom\, mindfulness teacher\, and Founder and Nutrition Therapist at Eat to Love\, Jenna aims to bring the gentle sanity of Buddhist principles to every aspect of her personal and professional life. She is excited to support Mommy Sangha members to create and sustain a meditation practice that creates awareness\, lovingkindness\, and self-compassion. Her greatest teachers include Susan\, her partner Andrea\, and her son Mimmo. \nAbout the Open Heart Project\nCreated by meditation teacher and writer Susan Piver\, the OHP is an online meditation center. It shares all the qualities of a traditional dharma center: A shared practice. Workshops. Advanced courses. Retreats. Guest teachers. Community gatherings—all online and available to you 24/7. Currently\, there are close to 20000 members all over the world who are practicing meditation to recover a sense of balance\, cultivate fearlessness\, sharpen our minds\, and soften our hearts. While each may practice alone\, we also practice together to create a network of sanity and kindness. More information about the Open Heart Project can be found here. \nOnce you register\, your account will be charged automatically every 30 days\, unless or until you cancel. \nQuestions? Please email Michele
URL:https://openheartproject.com/event/mommy-sangha-10-2017-03-22/
CATEGORIES:Ongoing Programs
END:VEVENT
BEGIN:VEVENT
DTSTART;TZID=America/New_York:20170329T013000
DTEND;TZID=America/New_York:20170329T140000
DTSTAMP:20260420T212019
CREATED:20170127T160250Z
LAST-MODIFIED:20170315T203101Z
UID:10014321-1490751000-1490796000@openheartproject.com
SUMMARY:Mommy Sangha
DESCRIPTION:The Open Heart Project Mommy Sangha: A supportive gathering of moms\, stepmoms\, and grandmothers to practice meditation together and share our wisdom\nAre you a mom (or stepmother or grandmother) who longs to practice meditation but can’t find time amidst the demands–and joys and difficulties–of caring for young children? \nParenting\, no matter how desired (and enjoyed)\, may come with fatigue\, self-doubt\, and the natural question: who the hell am I now? Meditation can help by offering space to breathe. Sangha (Sanskrit for community) helps by assuring you that you are most definitely not alone. Together\, meditation and Sangha can help you to remain present during the long days and short years of caring for your little ones. \nWhether you have a meditation practice (or used to have one) or are a brand new beginner\, you are warmly invited to join the Mommy Sangha. During this weekly 30-minute gathering\, you will be guided in a short meditation practice followed by a chance to connect with other mothers. We will also meet quarterly for a longer practice session and a special talk on how to apply Buddhist mindfulness principles to motherhood. \nThe Mommy Sangha will exist as a continuous presence for you to participate in as you are interested and able. And\, while we will be emphasizing the experiences of caring for younger children\, all mothers are welcome.\nWe promise to: \n\nProvide meditation instruction\nAnswer questions about meditation\nModerate the dialog to keep it meaningful and on point\nFoster kindness\nKeep it short!\n\nWhere: In the comfort of your own home via the Zoom meeting platform. Each session will be recorded so you can practice with the Mommy Sangha even if you can’t attend the live gathering. \n\n\n\n \n \n \n \n \n  \nAbout Jenna Hollenstein\nNew mom\, mindfulness teacher\, and Founder and Nutrition Therapist at Eat to Love\, Jenna aims to bring the gentle sanity of Buddhist principles to every aspect of her personal and professional life. She is excited to support Mommy Sangha members to create and sustain a meditation practice that creates awareness\, lovingkindness\, and self-compassion. Her greatest teachers include Susan\, her partner Andrea\, and her son Mimmo. \nAbout the Open Heart Project\nCreated by meditation teacher and writer Susan Piver\, the OHP is an online meditation center. It shares all the qualities of a traditional dharma center: A shared practice. Workshops. Advanced courses. Retreats. Guest teachers. Community gatherings—all online and available to you 24/7. Currently\, there are close to 20000 members all over the world who are practicing meditation to recover a sense of balance\, cultivate fearlessness\, sharpen our minds\, and soften our hearts. While each may practice alone\, we also practice together to create a network of sanity and kindness. More information about the Open Heart Project can be found here. \nOnce you register\, your account will be charged automatically every 30 days\, unless or until you cancel. \nQuestions? Please email Michele
URL:https://openheartproject.com/event/mommy-sangha-10-2017-03-29/
CATEGORIES:Ongoing Programs
END:VEVENT
BEGIN:VEVENT
DTSTART;TZID=America/New_York:20170330T163000
DTEND;TZID=America/New_York:20170330T183000
DTSTAMP:20260420T212019
CREATED:20170210T160321Z
LAST-MODIFIED:20170329T204335Z
UID:10014322-1490891400-1490898600@openheartproject.com
SUMMARY:Dharma of Writing Group
DESCRIPTION:In short\, writing is very powerful. Yet\, it is so difficult to begin! This is common and natural. \nThe Dharma of Writing is an ongoing two-hour online monthly gathering designed to help you enter your own writing with the support and companionship of other writers. It will be co-hosted by myself and Kate Lila Wheeler\, a novelist who is also an acclaimed Buddhist teacher. During the months that I host\, we will gather from 6:00p.m. – 8:00p.m. EDT and when Kate hosts\, it will be from 4:30p.m. – 6:30p.m. EDT. (We will alternate months.) This will give people in various time zones a chance to participate. \nAt each session\, we will practice meditation together and then actually write. Each person will work on his or her own project with the quiet\, supportive companionship of writers all over the world. We will convene using the video conference platform\, Zoom. Sessions will be recorded and links sent to all\, so if you can’t join live you can still participate. \nThe schedule for each session is: \n\nGuided mindfulness practice: 15 minutes\nJournaling exercise (“free writing”): 15 minutes\nWriting period: 80 minutes\nCheck-in and close: 10 minutes\n\nNo work will be shared during the class\, but the group will have a private forum on our site for anyone who would like to post their writing. \nOpen to writers of fiction\, non-fiction\, poetry\, screenplays\, and song—and anyone who would simply like to explore writing as a practice. \nNext session: April 20 4:30p.m. – 6:30p.m. EDT (hosted by Kate Lila Wheeler) \nThis program is for you if you are looking for some gentle accountability and dedicated time for your writing. \n\nThis program is ending and our last online gathering will be April 20th.\nThis program is free for Sangha members. (Please click here to learn more about the Sangha.) \n  \nQuestions? Please email Michele.
URL:https://openheartproject.com/event/dharma-writing-group-8-3/
CATEGORIES:Ongoing Programs
END:VEVENT
END:VCALENDAR